BEGIN:VCALENDAR
VERSION:2.0
PRODID:-//ChamberMaster//Event Calendar 2.0//EN
METHOD:PUBLISH
X-PUBLISHED-TTL:P3D
REFRESH-INTERVAL:P3D
CALSCALE:GREGORIAN
BEGIN:VEVENT
DTSTART:20190221T150000Z
DTEND:20190221T190000Z
X-MICROSOFT-CDO-ALLDAYEVENT:FALSE
SUMMARY:Masonry Focus Four (SPANISH)
DESCRIPTION:The OSHA Focus Four Course teaches how to avoid the four leading causes of fatalities in the construction industry. The OSHA Focus Four Hazards include: Electrocution Hazards\; Fall Hazards\; Struck-by Hazards\; and\, Caught-in or Caught-between Hazards. This course includes a total of 4 hours of in-depth safety training designed for masonry workers. Each OSHA Focus Four Hazard is covered in detail with its own section\, giving you the necessary safety training to help avoid job site incident and fatalities.
X-ALT-DESC;FMTTYPE=text/html:The OSHA Focus Four Course teaches how to avoid the four leading causes of fatalities in the construction industry. The OSHA Focus Four Hazards include: Electrocution Hazards\; Fall Hazards\; Struck-by Hazards\; and\, Caught-in or Caught-between Hazards. This course includes a total of 4 hours of in-depth safety training designed for masonry workers. Each OSHA Focus Four Hazard is covered in detail with its own section\, giving you the necessary safety training to help avoid job site incident and fatalities.
LOCATION:CORPORATE SAFETY SERVICES 2821 S PARKER RD AURORA CO 80014
UID:e.9638.5
SEQUENCE:3
DTSTAMP:20260421T164210Z
URL:https://members.rmmi.org/events/details/masonry-focus-four-spanish-5
END:VEVENT

END:VCALENDAR
