BEGIN:VCALENDAR
VERSION:2.0
PRODID:-//ChamberMaster//Event Calendar 2.0//EN
METHOD:PUBLISH
X-PUBLISHED-TTL:P3D
REFRESH-INTERVAL:P3D
CALSCALE:GREGORIAN
BEGIN:VEVENT
DTSTART:20190221T200000Z
DTEND:20190221T220000Z
X-MICROSOFT-CDO-ALLDAYEVENT:FALSE
SUMMARY:OSHA Silica Standard (SPANISH)
DESCRIPTION:This course presents an overview of the dangers of silica. The course covers the OSHA standard an safe work procedures where workers are exposed to silica. The focus of this course is to familiarize you wih practices that decrease the risk of exposure\, and to offer best practices for mitigating the dangers of exposure to silica in construction.
X-ALT-DESC;FMTTYPE=text/html:This course presents an overview of the dangers of silica. The course covers the OSHA standard an safe work procedures where workers are exposed to silica. The focus of this course is to familiarize you wih practices that decrease the risk of exposure\, and to offer best practices for mitigating the dangers of exposure to silica in construction.
LOCATION:CORPORATE SAFETY SERVICES 2821 S PARKER RD AURORA CO 80014
UID:e.9638.6
SEQUENCE:3
DTSTAMP:20260421T182123Z
URL:https://members.rmmi.org/events/details/osha-silica-standard-spanish-6
END:VEVENT

END:VCALENDAR
